BEGIN:VCALENDAR
VERSION:2.0
PRODID:-//Dr Jayne Younie Holistic Psychologist (Ph.D, CCH, CMLC, NLPMP, CRMT)
CALSCALE:GREGORIAN
METHOD:PUBLISH
X-WR-CALNAME:Dr Jayne Younie Holistic Psychologist (Ph.D, CCH, CMLC, NLPMP, CRMT)
X-ORIGINAL-URL:https://jayneyounie.com/event/absolutely-fabulously-fit-weight-loss-retreat/
X-WR-CALDESC:’Absolutely Fabulously Fit’ Weight Loss Retreat
BEGIN:VEVENT
DTSTART:
DTEND:
SUMMARY:’Absolutely Fabulously Fit’ Weight Loss Retreat
DESCRIPTION:Business it will frequently occur that pleasures have to be repudiated and annoyances accepted. The wise man therefore always holds.
LOCATION: 282 Monaro Road, Monaro, Mudgeeraba QLD 4213, Australia 
END:VEVENT
END:VCALENDAR
