BEGIN:VCALENDAR
VERSION:2.0
PRODID:-//Dr Jayne Younie Holistic Psychologist (Ph.D, CCH, CMLC, NLPMP, CRMT)
CALSCALE:GREGORIAN
METHOD:PUBLISH
X-WR-CALNAME:Dr Jayne Younie Holistic Psychologist (Ph.D, CCH, CMLC, NLPMP, CRMT)
X-ORIGINAL-URL:https://jayneyounie.com/event/rebalance-retreat-july-2021/
X-WR-CALDESC:Rebalance Retreat July 2021
BEGIN:VEVENT
DTSTART:20210723T100000
DTEND:20210417T163000
SUMMARY:Rebalance Retreat July 2021
DESCRIPTION:Business it will frequently occur that pleasures have to be repudiated and annoyances accepted. The wise man therefore always holds.
LOCATION: 282 Monaro Road, Monaro, Mudgeeraba QLD 4213, Australia 
END:VEVENT
END:VCALENDAR
